BEGIN:VCALENDAR
BEGIN:VEVENT
SUMMARY:Schimscheimer Family\, Kim Cass\, Matt Nelson [nycnoise]
DTSTART:20250420T233000Z
DTEND:20250421T003000Z
UID:3c8c6768-edc3-44cd-8607-b8236f11d20f
CREATED:20260420T145254Z
DESCRIPTION:
LOCATION:threes brewing (333 douglass st.\, brooklyn)
END:VEVENT
END:VCALENDAR
