BEGIN:VCALENDAR
BEGIN:VEVENT
SUMMARY:Soup & Sound x GHMS present Black Composers Upsouth\, Night #1/3: 
 Dance Clarinets play the music Of Oliver Lake\, James "Jabbo" Ware\, Juliu
 s Hemphill + Oliver Lake Reading [nycnoise]
DTSTART:20250415T233000Z
DTEND:20250416T003000Z
UID:f85eb78c-528a-499d-a3a7-498b228de3fc
CREATED:20260420T145453Z
DESCRIPTION:directed by J.D. Parran\, "a jazz orchestra featuring a dozen 
 bass clarinets"\; artists: Paul Austerlitz\, Ivan Barenboim\, James Elmore
  Iii\, Peter Hess\, Randolph Murphy\, Lee Odom\, Katie Porter\, Isaiah Ric
 hardson Jr. Fred Rosenberg\, Don Slatoff\, D. Zisl Slepovitch\, David Stok
 es\, Alexis Marcelo\, Hilliard Greene\, Andrew Drury
LOCATION:greenwich house music school (46 barrow st.\, manhattan)
END:VEVENT
END:VCALENDAR
