BEGIN:VCALENDAR
BEGIN:VEVENT
SUMMARY:Soup & Sound x GHMS present Black Composers Upsouth\, Night #2/3: 
 The Hemphill Stringtet plays the music of Julius Hemphill (CD Release) [ny
 cnoise]
DTSTART:20250416T233000Z
DTEND:20250417T003000Z
UID:647096d1-ea07-4ee2-a668-87e4a53cfe1f
CREATED:20260420T145417Z
DESCRIPTION:THS: Curtis Stewart\, Sam Bardfeld\, Stephanie Griffin\, Tomek
 a Reid
LOCATION:greenwich house music school (46 barrow st.\, manhattan)
END:VEVENT
END:VCALENDAR
