BEGIN:VCALENDAR
BEGIN:VEVENT
SUMMARY:Soup & Sound presents: Ayako Kanda & Elliott Sharp\, Megha Rawoot 
 & Andrew Drury [nycnoise]
DTSTART:20250510T000000Z
DTEND:20250510T010000Z
UID:d1e659a3-136f-4340-9225-9f4492fd62fa
CREATED:20260420T145340Z
DESCRIPTION:$20 suggested donation includes soup!
LOCATION:mayday (176 St Nicholas Ave\, Brooklyn\, NY 11237)
END:VEVENT
END:VCALENDAR
