BEGIN:VCALENDAR
BEGIN:VEVENT
SUMMARY:Soup & Sound: Ahmed Abdullah Diaspora (w/ Monique Ngozi Nri\, Don 
 Chapman\, D. D. Jackson\, Norbert Marius\, Warren "Trae" Crudup III) [nycn
 oise]
DTSTART:20250525T000000Z
DTEND:20250525T010000Z
UID:b9b2c468-88ca-49fb-99d4-66ec8d6e81b0
CREATED:20260420T145346Z
DESCRIPTION:$20 suggested donation includes soup!
LOCATION:soup & sound (292 lefferts ave\, brooklyn)
END:VEVENT
END:VCALENDAR
