BEGIN:VCALENDAR
BEGIN:VEVENT
SUMMARY:Soap Library presents: Microfibers (Record Release\; Jonny Campolo
 \, Keegan Monaghan\, Eugene Wasserman)\, Ian Drennan [nycnoise]
DTSTART:20250509T230000Z
DTEND:20250510T000000Z
UID:383d7894-1cbe-4202-8c5b-496627436f14
CREATED:20260420T145343Z
DESCRIPTION:🇵🇸 PACBI +++&nbsp\;🌀 notaflof work trade
LOCATION:light & sound design
END:VEVENT
END:VCALENDAR
