BEGIN:VCALENDAR
BEGIN:VEVENT
SUMMARY:Igor Lumpert / Sebastien Ammann / Nick Jost / Jeff Willliams [nycn
 oise]
DTSTART:20250405T000000Z
DTEND:20250405T010000Z
UID:211aad6b-56ff-4a32-8a00-caef9ec11b5b
CREATED:20260420T145357Z
DESCRIPTION:
LOCATION:ibeam (168 7th st.\, brooklyn)
END:VEVENT
END:VCALENDAR
