BEGIN:VCALENDAR
BEGIN:VEVENT
SUMMARY:Spontaneous Resonance: Matt Knoegel / Megumi Yonezawa / Ken Kobaya
 shi\, DOT ISO (Vivek Menon\, Dylan DelGiudice\, Orchid McRae) [nycnoise]
DTSTART:20250409T000000Z
DTEND:20250409T010000Z
UID:1de42ecc-bb79-4c7c-81f3-415354a39479
CREATED:20260420T145326Z
DESCRIPTION:
LOCATION:ibeam (168 7th st.\, brooklyn)
END:VEVENT
END:VCALENDAR
