BEGIN:VCALENDAR
BEGIN:VEVENT
SUMMARY:Instrumental Underground: Tamara Yadao & Max Kutner\, New Sextet (
 Ras Moshe Burnett & more)\, Stephen Gauci Quartet [nycnoise]
DTSTART:20250412T220000Z
DTEND:20250412T230000Z
UID:dc760714-39a0-4962-83ba-45d0ad3fd039
CREATED:20260420T145317Z
DESCRIPTION:N6: RMB\, Jeff Pearring\, Colin Babcock\, Matthew Putman\, Tre
 vor Bajus\, Reggie Sylvester\; SG4 w/ Shinya Lin\, Shogo Yamagishi\, Kevin
  Shea
LOCATION:ibeam (168 7th st.\, brooklyn)
END:VEVENT
END:VCALENDAR
