BEGIN:VCALENDAR
BEGIN:VEVENT
SUMMARY:Eleven O’Five\, Quintet\, Dimensionality Quartet [nycnoise]
DTSTART:20250418T000000Z
DTEND:20250418T010000Z
UID:4eaab4b6-7ee8-41cc-9403-1b8db170716a
CREATED:20260420T145421Z
DESCRIPTION:11:05: Claire de Brunner\, Melanie Dyer\, Virg Dzurinko\; Q: C
 arol Liebowitz\, Nick Lyons\, Stephanie Griffin\, Ken Filiano\, Billy Mint
 z\; D4: Ursel Schlicht\, Andrea Wolper\, Ken Filiano\, Lou Grassi
LOCATION:ibeam (168 7th st.\, brooklyn)
END:VEVENT
END:VCALENDAR
