BEGIN:VCALENDAR
BEGIN:VEVENT
SUMMARY:Bellcave s2 ep4: Samantha Kochis\, Claxon (Anna Fortuna\, Katie We
 bster\, Evan Palmer)\, Dorée [nycnoise]
DTSTART:20250422T230000Z
DTEND:20250423T000000Z
UID:8d271a9d-daa9-495b-b938-0a0df2ab14d3
CREATED:20260420T145258Z
DESCRIPTION:
LOCATION:bellcave
END:VEVENT
END:VCALENDAR
