BEGIN:VCALENDAR
BEGIN:VEVENT
SUMMARY:The Passion of Joan of Arc Live Score (Selendis Sebastian Alexande
 r Johnson\, Francesca H.\, Gían Pérez) [nycnoise]
DTSTART:20250412T230000Z
DTEND:20250413T000000Z
UID:7a7056aa-c937-40b8-9c41-ed818d6eabc5
CREATED:20260420T145353Z
DESCRIPTION:🇵🇸 PACBI +++ should be on brothers insta asap (ty g&iacu
 te\;an!)
LOCATION:brothers wash & dry laundromat (5420 nurge ave\, queens)
END:VEVENT
END:VCALENDAR
