BEGIN:VCALENDAR
BEGIN:VEVENT
SUMMARY:Gían Pérez & Nathan Chamberlain [nycnoise]
DTSTART:20250428T013000Z
DTEND:20250428T023000Z
UID:90538353-7b82-4f84-bab3-b3d4f79bcf56
CREATED:20260420T145318Z
DESCRIPTION:
LOCATION:pete's candy store (709 lorimer st.\, brooklyn)
END:VEVENT
END:VCALENDAR
