BEGIN:VCALENDAR
BEGIN:VEVENT
SUMMARY:Music\, Art\, Food Benefit for Gazan Fam of 24: Blackberry Knuckle
 duster\, K. Porcelain\, DJ Cal Fish\, Chai Group Vocalizing Workshop\, Ope
 n Jam/Mic [nycnoise]
DTSTART:20250403T210000Z
DTEND:20250403T220000Z
UID:faa3cb33-d06b-474a-b556-eaa90bbeb6df
CREATED:20260420T145421Z
DESCRIPTION:🇵🇸 "fun razor for a 24 y/o caretaker of 25 in the beauti
 ful land of Falalala -stine"\; free rice &amp\; curry\; bring something fo
 r free store &amp\; yr own cup or bowl\; raffle for handmade flag + more\,
  $13 suggested\; visuals: Aderinsola\, Spit Silk\; stretching class: Smili
 ng Beth\; flyer
LOCATION:living gallery (1094 broadway\, brooklyn)
END:VEVENT
END:VCALENDAR
