BEGIN:VCALENDAR
BEGIN:VEVENT
SUMMARY:Calder the Destroyer\, J-Pita\, London Planes [nycnoise]
DTSTART:20250406T233000Z
DTEND:20250407T003000Z
UID:e37e9ee3-ad2a-45de-a3ab-5fdf47f91388
CREATED:20260420T145422Z
DESCRIPTION:7pm doors
LOCATION:rubulad
END:VEVENT
END:VCALENDAR
