BEGIN:VCALENDAR
BEGIN:VEVENT
SUMMARY:Michael E. Smith presents a handful of eggs (#3/5): BURGERTIME HD 
 [nycnoise]
DTSTART:20250412T220000Z
DTEND:20250412T230000Z
UID:495a0b82-5289-4193-843e-0025b14b45a8
CREATED:20260420T145254Z
DESCRIPTION:
LOCATION:giorno poetry systems (222 bowery\, manhattan)
END:VEVENT
END:VCALENDAR
