BEGIN:VCALENDAR
BEGIN:VEVENT
SUMMARY:Michael E. Smith presents a handful of eggs (#5/5): STRAYWINDS [ny
 cnoise]
DTSTART:20250414T000000Z
DTEND:20250414T010000Z
UID:f2f23583-753e-457e-8781-bcef95ce6acf
CREATED:20260420T145537Z
DESCRIPTION:
LOCATION:giorno poetry systems (222 bowery\, manhattan)
END:VEVENT
END:VCALENDAR
