BEGIN:VCALENDAR
BEGIN:VEVENT
SUMMARY:Music + Meditation: Lisa Alvardo Family Workshop (ft. Joshua Abram
 s) [nycnoise]
DTSTART:20250412T163000Z
DTEND:20250412T173000Z
UID:02440712-d97b-46d5-95bf-4ea6881ec072
CREATED:20260420T145252Z
DESCRIPTION:12pm doors\; 😷 masks strongly encouraged
LOCATION:kitchen at westbeth (163 bank st.\, 4th fl.\, manhattan)
END:VEVENT
END:VCALENDAR
