BEGIN:VCALENDAR
BEGIN:VEVENT
SUMMARY:Reed Basket (Andy Biskin\, Peter Hess\, Mike McGinnis\, Sam Sadigu
 rsky) [nycnoise]
DTSTART:20250406T220000Z
DTEND:20250406T230000Z
UID:5cc425e2-90eb-4863-b04f-262f384efc80
CREATED:20260420T145349Z
DESCRIPTION:
LOCATION:barbès (376 9th st.\, brooklyn)
END:VEVENT
END:VCALENDAR
