BEGIN:VCALENDAR
BEGIN:VEVENT
SUMMARY:Midnight Ecstasy: Time Wharp\, Hannah Account\, sola system\, Elly
  DJ [nycnoise]
DTSTART:20250404T000000Z
DTEND:20250404T010000Z
UID:a69634cf-2f8d-45c9-98c2-7c18ce5518c6
CREATED:20260420T145447Z
DESCRIPTION:
LOCATION:jupiter disco (1237 flushing ave\, brooklyn)
END:VEVENT
END:VCALENDAR
