BEGIN:VCALENDAR
BEGIN:VEVENT
SUMMARY:Sorry Records: Malzof\, 30000AD\, Underpass (John Barera b2b Byld)
  [nycnoise]
DTSTART:20250407T020000Z
DTEND:20250407T030000Z
UID:f49e0fb5-99fb-485a-9726-141dc0d1fcb5
CREATED:20260420T145601Z
DESCRIPTION:🇵🇸 PACBI&nbsp\;(bossa *&amp\;* sorry)
LOCATION:bossa nova civic club (1271 myrtle ave\, brooklyn)
END:VEVENT
END:VCALENDAR
