BEGIN:VCALENDAR
BEGIN:VEVENT
SUMMARY:WISE / In Waves: Corset Lore (Tamara Yadao)\, Ipek Eginli\, Loverb
 oy & Grace (Sara Wentworth & Jenn Pyron)\, Erin Wajufos & Voyde [nycnoise]
DTSTART:20250413T233000Z
DTEND:20250414T003000Z
UID:a1acb6d1-7133-4175-a2c0-d4293c1d7be9
CREATED:20260420T145329Z
DESCRIPTION:🇵🇸 PACBI +++ 7pm doors
LOCATION:cutelab
END:VEVENT
END:VCALENDAR
