BEGIN:VCALENDAR
BEGIN:VEVENT
SUMMARY:Jan Esbra\, Alex Koi\, Phong Tran [nycnoise]
DTSTART:20250509T000000Z
DTEND:20250509T010000Z
UID:2cc00add-d997-4ea8-859c-a34b637dd96c
CREATED:20260420T145424Z
DESCRIPTION:🇵🇸 PACBI
LOCATION:cutelab
END:VEVENT
END:VCALENDAR
