BEGIN:VCALENDAR
BEGIN:VEVENT
SUMMARY:Point Sources II Multichannel Showcase: Kari Watson\, Testu Collec
 tive\, Insomniac Hotel\, Mike Clemow\, Sara Wentworth [nycnoise]
DTSTART:20250518T000000Z
DTEND:20250518T010000Z
UID:f394cd35-bf93-4cea-8ba4-0ac7cfdd4dca
CREATED:20260420T145420Z
DESCRIPTION:🇵🇸 PACBI
LOCATION:cutelab
END:VEVENT
END:VCALENDAR
