BEGIN:VCALENDAR
BEGIN:VEVENT
SUMMARY:Zoh Amba's Sun Ensemble & Zoh Amba Presents her songs [nycnoise]
DTSTART:20250429T000000Z
DTEND:20250429T010000Z
UID:b00e4dad-4732-40e2-bcd0-fd8a1e4f7463
CREATED:20260420T145557Z
DESCRIPTION:7pm doors
LOCATION:le poisson rouge (lpr) (158 bleecker st.\, manhattan)
END:VEVENT
END:VCALENDAR
