BEGIN:VCALENDAR
BEGIN:VEVENT
SUMMARY:$51 [nycnoise]
DTSTART:20250426T000000Z
DTEND:20250426T010000Z
UID:20baf26f-f022-4d75-9f41-7743bc4c3662
CREATED:20260420T145346Z
DESCRIPTION:LPR presents Nick Hakim: 'Where Will We Go' 10 Year Anniversar
 y\; 7pm doors
LOCATION:first unitarian church (119 pierrepont st.\, brooklyn)
END:VEVENT
END:VCALENDAR
