BEGIN:VCALENDAR
BEGIN:VEVENT
SUMMARY:Gabriel Zucker & “Till Jarvis” [nycnoise]
DTSTART:20250501T233000Z
DTEND:20250502T003000Z
UID:910dc267-355d-4b2b-9a1c-02eb66363b5f
CREATED:20260420T145413Z
DESCRIPTION:7:30pm tix\, 9pm tix link asap
LOCATION:close up jazz (154 Orchard St\, New York\, NY 10002\, United Stat
 es)
END:VEVENT
END:VCALENDAR
