BEGIN:VCALENDAR
BEGIN:VEVENT
SUMMARY:Adam O'Farrill's Stranger Days (w/ Xavier Del Castillo\, Zack O'Fa
 rrill) [nycnoise]
DTSTART:20250504T233000Z
DTEND:20250505T003000Z
UID:28c33b0b-3919-4500-ab3e-07655b0e7c75
CREATED:20260420T145409Z
DESCRIPTION:7:30pm tix\, 9pm tix
LOCATION:close up jazz (154 Orchard St\, New York\, NY 10002\, United Stat
 es)
END:VEVENT
END:VCALENDAR
