BEGIN:VCALENDAR
BEGIN:VEVENT
SUMMARY:FourOneOne presents: Black Earth SWAY (​Alexis Lombre\, JoVia Ar
 mstrong\, Coco Elysses\, Nicole Mitchell) [nycnoise]
DTSTART:20250404T233000Z
DTEND:20250405T003000Z
UID:99d2c109-b086-45b8-8a26-01e7f4cae8fb
CREATED:20260420T145502Z
DESCRIPTION:7pm doors
LOCATION:bric (647 fulton st.\, brooklyn)
END:VEVENT
END:VCALENDAR
