BEGIN:VCALENDAR
BEGIN:VEVENT
SUMMARY:Peter Stampfel & the Atomic Meta Pagans [nycnoise]
DTSTART:20250427T000000Z
DTEND:20250427T010000Z
UID:f90a8598-6288-45a0-b9d2-ad07c7e7ace5
CREATED:20260420T145459Z
DESCRIPTION:7:30pm doors\; full lineup asap
LOCATION:owl (497 rogers ave\, brooklyn)
END:VEVENT
END:VCALENDAR
