BEGIN:VCALENDAR
BEGIN:VEVENT
SUMMARY:Trick Tips\, Mike Etten\, Anna Altman [nycnoise]
DTSTART:20250604T000000Z
DTEND:20250604T010000Z
UID:047f496d-fb3c-4547-8723-a807b8ceeefb
CREATED:20260420T145547Z
DESCRIPTION:"trick tips first show free show\, enjoy some guitar music in 
 the arcade"
LOCATION:wonderville (1186 broadway\, brooklyn)
END:VEVENT
END:VCALENDAR
