BEGIN:VCALENDAR
BEGIN:VEVENT
SUMMARY:Jennifer Gersten\, Maggie Cox\, Goal Weight (Cox & Gersten) [nycno
 ise]
DTSTART:20250408T230000Z
DTEND:20250409T000000Z
UID:647b012d-29dc-4f54-81c9-59cb937cb8b9
CREATED:20260420T145600Z
DESCRIPTION:"two-drink minimum"
LOCATION:bad therapy (1008 Cortelyou Rd\, Brooklyn\, NY 11218)
END:VEVENT
END:VCALENDAR
