BEGIN:VCALENDAR
BEGIN:VEVENT
SUMMARY:A Play Actually?? Day #4/5: Alina Jacobs: New Life Hamlet Construc
 tion [nycnoise]
DTSTART:20250412T200000Z
DTEND:20250412T210000Z
UID:042ac19b-76e8-424b-be98-16bfde18dc14
CREATED:20260420T145406Z
DESCRIPTION:🇵🇸 PACBI +++ this is a ~play~ BUT it has live sound elem
 ents &amp\; we like alina so here u go :) just listing un-sold-out dates\,
  nice flyer
LOCATION:[RIP] double dutch (667 Evergreen Ave\, Brooklyn\, NY 11207)
END:VEVENT
END:VCALENDAR
