BEGIN:VCALENDAR
BEGIN:VEVENT
SUMMARY:Free Dimensions: Trio Is (Devin Brajha Waldman\, DJ Magik Clowns\,
  Dan Kurfirst)\, Parachute Quartet (Gideon Forbes\, Mara Rosenbloom\, Evan
  Crane\, Leonid Galaganov) [nycnoise]
DTSTART:20250507T230000Z
DTEND:20250508T000000Z
UID:d31d41f2-24ff-4c4f-a39f-b1d7ce6a2f44
CREATED:20260420T145505Z
DESCRIPTION:curated by dan kurfirst
LOCATION:nublu classic (62 Loisaida Ave\, New York\, NY 10009)
END:VEVENT
END:VCALENDAR
