BEGIN:VCALENDAR
BEGIN:VEVENT
SUMMARY:Joe & Co\, PuriKoko & Friends\, Mioera\, Anouk Joon [nycnoise]
DTSTART:20250504T230000Z
DTEND:20250505T000000Z
UID:9a6f8d3f-19b6-4750-90fe-6bd6fffda3f0
CREATED:20260420T145555Z
DESCRIPTION:flyer asap
LOCATION:nublu classic (62 Loisaida Ave\, New York\, NY 10009)
END:VEVENT
END:VCALENDAR
