BEGIN:VCALENDAR
BEGIN:VEVENT
SUMMARY:$50 [nycnoise]
DTSTART:20250603T230000Z
DTEND:20250604T000000Z
UID:d232d79c-7a16-4c4c-851f-d967454df810
CREATED:20260420T145504Z
DESCRIPTION:VISION FESTIVAL\, Day #2/6: Miriam Parker\, gabby fluke-mogul\
 , Charles Burnham\, Luke Stewart\, Tcheser Holmes\, Amirtha Kidambi\, Elle
 n Christi&rsquo\;s Flux in Chaos\, Nicole Mitchell&rsquo\;s Black Earth En
 semble: Portraits of Sonic Freedom +++ $40 LIVESTREAM + discount&nbsp\;to 
 $50 w/ code "hellofriends25" + $40 w/ student ID
LOCATION:roulette (509 atlantic ave\, brooklyn)
END:VEVENT
END:VCALENDAR
