BEGIN:VCALENDAR
BEGIN:VEVENT
SUMMARY:$50 [nycnoise]
DTSTART:20250606T210000Z
DTEND:20250606T220000Z
UID:d1a6dadb-afa0-4f26-a3bd-c3e20a7c2bb8
CREATED:20260420T145505Z
DESCRIPTION:VISION FESTIVAL\, Day #5/6: Francisco Mela\, George Garzone\, 
 John Lockwood\, Patricia Nicholson\, Val Jeanty\, Melanie Dyer\, Miriam Pa
 rker\, DoYeon Kim\, Mat Maneri\, John Hebert\, Satoshi Takeishi\, Boomi Ch
 oi\, David Murray\, Luke Stewart\, Marta Sanchez\, Russell Carter +++ $40 
 LIVESTREAM + discount&nbsp\;to $50 w/ code "hellofriends25" + $40 w/ stude
 nt ID
LOCATION:roulette (509 atlantic ave\, brooklyn)
END:VEVENT
END:VCALENDAR
