BEGIN:VCALENDAR
BEGIN:VEVENT
SUMMARY:Ben Shirken Installation Opening: Dorothy Carlos\, Madeline Stepie
 n [nycnoise]
DTSTART:20250410T230000Z
DTEND:20250411T000000Z
UID:9c095763-29be-422d-bfa5-952b7e24ffe9
CREATED:20260420T145500Z
DESCRIPTION:🇵🇸 PACBI +++ free w/ rsvp\; installation collab w/ Studi
 o ZM\, Muein\, Duncan Davies
LOCATION:intercomm (584 Woodward Ave\, Ridgewood\, NY 11385)
END:VEVENT
END:VCALENDAR
