BEGIN:VCALENDAR
BEGIN:VEVENT
SUMMARY:Ben Shirken Installation Closing: Drumloop\, Aliya Ultan & Kevin E
 ichenberger [nycnoise]
DTSTART:20250420T220000Z
DTEND:20250420T230000Z
UID:5f89fa98-379e-4c5d-b138-e9d957a35fdc
CREATED:20260420T145608Z
DESCRIPTION:🇵🇸 PACBI
LOCATION:intercomm (584 Woodward Ave\, Ridgewood\, NY 11385)
END:VEVENT
END:VCALENDAR
