BEGIN:VCALENDAR
BEGIN:VEVENT
SUMMARY:Momenta presents: Crackhead Barney & Rabbi Stravinsky\, Buffy\, An
 h Vo\, Lina Azalea & Dahbour [nycnoise]
DTSTART:20250425T230000Z
DTEND:20250426T000000Z
UID:a220b3c4-f65e-4441-8b3a-4a034a9098db
CREATED:20260420T145412Z
DESCRIPTION:🇵🇸 PACBI
LOCATION:intercomm (584 Woodward Ave\, Ridgewood\, NY 11385)
END:VEVENT
END:VCALENDAR
