BEGIN:VCALENDAR
BEGIN:VEVENT
SUMMARY:CFPT Presents: Erica Dawn Lyle\, Sour Spirit\, Gían Perez\, mediu
 m. [nycnoise]
DTSTART:20250502T230000Z
DTEND:20250503T000000Z
UID:28bb9321-4eba-42f1-8639-2a9144f04e0d
CREATED:20260420T145559Z
DESCRIPTION:🇵🇸 PACBI
LOCATION:intercomm (584 Woodward Ave\, Ridgewood\, NY 11385)
END:VEVENT
END:VCALENDAR
