BEGIN:VCALENDAR
BEGIN:VEVENT
SUMMARY:bckgrnd music: Nuke Watch\, Numyn\, Corn Fish [nycnoise]
DTSTART:20250425T000000Z
DTEND:20250425T010000Z
UID:b6088ea6-798b-41ff-947d-12d84db86080
CREATED:20260420T145213Z
DESCRIPTION:"weird music all night in the background."
LOCATION:honey's (93 scott ave\, brooklyn)
END:VEVENT
END:VCALENDAR
