BEGIN:VCALENDAR
BEGIN:VEVENT
SUMMARY:Environs III: Catherine Monster\, Elijah Shiffer's City of Birds\,
  Leftpop\, paper gem (DJ) [nycnoise]
DTSTART:20250424T230000Z
DTEND:20250425T000000Z
UID:c73331ed-e3eb-4566-ab0b-9b0a4df96609
CREATED:20260420T145545Z
DESCRIPTION:
LOCATION:dada (6047 Myrtle Ave\, Queens\, NY 11385)
END:VEVENT
END:VCALENDAR
