BEGIN:VCALENDAR
BEGIN:VEVENT
SUMMARY:Fundraiser for Palestine: Ūmboma (Omar Ahmad & Miss Alicia)\, Kri
 thi\, theoretic\, PUFF\, DJs Against Apartheid [nycnoise]
DTSTART:20250420T210000Z
DTEND:20250420T220000Z
UID:4ce199b2-e577-4145-b1d0-d495bc2c235e
CREATED:20260420T145457Z
DESCRIPTION:🇵🇸 PACBI +++ "100% of net profits will go to the Albess 
 &amp\; Al Saqqa families"\; food donated by King of Falafel &amp\; Shawarm
 a
LOCATION:light & sound design
END:VEVENT
END:VCALENDAR
