BEGIN:VCALENDAR
BEGIN:VEVENT
SUMMARY:Jake Muir & KG will Present Sounds [nycnoise]
DTSTART:20250424T230000Z
DTEND:20250425T000000Z
UID:0ea9d3de-ea1e-45b6-9cbb-63f536acc3f2
CREATED:20260420T145411Z
DESCRIPTION:🇵🇸 PACBI +++&nbsp\;🌀 notaflof work trade
LOCATION:light & sound design
END:VEVENT
END:VCALENDAR
