BEGIN:VCALENDAR
BEGIN:VEVENT
SUMMARY:Live Composition Fest Night #1/2: Selendis Sebastian Alexander Joh
 nson Medium Band\, Walter Thompson Orchestra\, Letter of Marque Theater Co
 . [nycnoise]
DTSTART:20250425T233000Z
DTEND:20250426T003000Z
UID:b46bc4b3-2923-4b5b-aa27-3be5f650197e
CREATED:20260420T145542Z
DESCRIPTION:7pm doors
LOCATION:we are here (563 Johnson Ave Floor 2\, Brooklyn\, NY 11237)
END:VEVENT
END:VCALENDAR
