BEGIN:VCALENDAR
BEGIN:VEVENT
SUMMARY:Live Composition Fest Night #2/2: Frank London presents the LES Ho
 rn Ensemble\, Strike Anywhere Performance Ensemble\, Sam Day Harmet Soundp
 ainting Collective ft. Abazaba [nycnoise]
DTSTART:20250426T233000Z
DTEND:20250427T003000Z
UID:c4ed94fc-3a1c-440a-97ea-1b4472ea4a33
CREATED:20260420T145545Z
DESCRIPTION:7pm doors
LOCATION:we are here (563 Johnson Ave Floor 2\, Brooklyn\, NY 11237)
END:VEVENT
END:VCALENDAR
