BEGIN:VCALENDAR
BEGIN:VEVENT
SUMMARY:Maya Keren\, Otracami\, Worldwide Seagull [nycnoise]
DTSTART:20250420T213000Z
DTEND:20250420T223000Z
UID:2a17e50b-3c3c-4637-b1ee-54a30838b399
CREATED:20260420T145602Z
DESCRIPTION:🇵🇸 PACBI
LOCATION:p.i.t. (property is theft) (411 s. 5th st.\, brooklyn)
END:VEVENT
END:VCALENDAR
