BEGIN:VCALENDAR
BEGIN:VEVENT
SUMMARY:FAREWELL (for now!) to: Dave’s Waves Sonic Luncheonette @ Sunvie
 w #3/3 [nycnoise]
DTSTART:20250413T180000Z
DTEND:20250413T190000Z
UID:7a29208a-d9e8-49ef-a2b5-9b8ac3b516e7
CREATED:20260420T145455Z
DESCRIPTION:2pm-5pm sound &amp\; video installation (&amp\; prolly some li
 ve stuff!)
LOCATION:sunview luncheonette (221 nassau ave\, brooklyn)
END:VEVENT
END:VCALENDAR
