BEGIN:VCALENDAR
BEGIN:VEVENT
SUMMARY:JACK Quartet performs works by Marcos Balter\, Eduardo Aguilar\, L
 eilehua Lanzilotti\, Vicente Atria [nycnoise]
DTSTART:20250410T230000Z
DTEND:20250411T000000Z
UID:46417e78-ff53-4e52-bd64-cf9040bfd238
CREATED:20260420T145350Z
DESCRIPTION:
LOCATION:americas society (680 park ave\, manhattan)
END:VEVENT
END:VCALENDAR
